Workbook

Sheet 総括表
B1: 令和6年度 財政状況資料集
B2: 総括表（市町村）
B3: 都道府県名 | L3: 北海道 | W3: 市町村類型 | AC3: Ⅰ－３ | AM3: 指定団体等の指定状況 | AY3: 区分 | BN3: 令和6年度(千円) | BV3: 令和5年度(千円) | CD3: 区分 | CT3: 令和6年度(千円･％) | DB3: 令和5年度(千円･％)
AY4: 歳入総額 | BN4: 25607923 | BV4: 26102421 | CD4: 実質収支比率 | CT4: 5.6 | DB4: 6.6
AM5: 財政健全化等 | AU5: × | AY5: 歳出総額 | BN5: 24714774 | BV5: 24997359 | CD5: 経常収支比率 | CT5: 97.9 | DB5: 96.2
B6: 市町村名 | L6: 登別市 | W6: 地方交付税種地 | AC6: 1-2 | AM6: 財源超過 | AU6: × | AY6: 歳入歳出差引 | BN6: 893149 | BV6: 1105062 | CD6: (※1) | CT6: 98.2 | DB6: 96.8
AM7: 首都 | AU7: × | AY7: 翌年度に繰越すべき財源 | BN7: 219096 | BV7: 321634 | CD7: 標準財政規模 | CT7: 11934768 | DB7: 11896590
AM8: 近畿 | AU8: × | AY8: 実質収支 | BN8: 674053 | BV8: 783428 | CD8: 財政力指数 | CT8: 0.47 | DB8: 0.46
B9: 人口 | L9: 令和2年国調(人) | R9: 46391 | W9: 産業構造 (※5) | AM9: 中部 | AU9: × | AY9: 単年度収支 | BN9: -109375 | BV9: 44784 | CD9: 公債費負担比率 | CT9: 11.1 | DB9: 12.8
L10: 平成27年国調(人) | R10: 49625 | AM10: 過疎 | AU10: × | AY10: 積立金 | BN10: 250834 | BV10: 100030 | CD10: 健全化判断比率
L11: 増減率 (％) | R11: -6.5 | AM11: 山振 | AU11: × | AY11: 繰上償還金 | BN11: 0 | BV11: 0 | CD11: 実質赤字比率 | CT11: - | DB11: -
B12: 住民基本台帳人口 (※7) | L12: 令07.01.01(人) | R12: 43615 | W12: 区分 | AC12: 令和2年国調 | AH12: 平成27年国調 | AM12: 低開発 | AU12: × | AY12: 積立金取崩し額 | BN12: 0 | BV12: 0 | CD12: 連結実質赤字比率 | CT12: - | DB12: -
M13: うち日本人(人) | R13: 43179 | W13: 第1次 | AC13: 256 | AH13: 258 | AM13: 指数表選定 | AU13: ○ | AY13: 実質単年度収支 | BN13: 141459 | BV13: 144814 | CD13: 実質公債費比率 | CT13: 9.6 | DB13: 10.4
L14: 令06.01.01(人) | R14: 44451 | AC14: 1.3 | AH14: 1.2 | CD14: 将来負担比率 | CT14: 37.4 | DB14: 54.8
M15: うち日本人(人) | R15: 44134 | W15: 第2次 | AC15: 4946 | AH15: 5055 | AY15: 基準財政収入額 | BN15: 5008631 | BV15: 4945012 | CD15: 資金不足比率 (※4)
L16: 増減率 (％) | R16: -1.9 | AC16: 24.8 | AH16: 24.4 | AY16: 基準財政需要額 | BN16: 10664749 | BV16: 10612977
M17: うち日本人(％) | R17: -2.2 | W17: 第3次 | AC17: 14750 | AH17: 15380 | AY17: 標準税収入額等 | BN17: 6245190 | BV17: 6151526
B18: 面積 (k㎡) | L18: 212.21 | AC18: 73.9 | AH18: 74.3 | AY18: 経常経費充当一般財源等 | BN18: 12137765 | BV18: 11916087
B19: 人口密度 (人/k㎡) | L19: 219 | AY19: 歳入一般財源等 | BN19: 16270842 | BV19: 16425303
B20: 世帯数 (世帯) | L20: 20928
B21: 職員の状況 (※8)
B22: 特別職等 | E22: 区分 | L22: 定数 | Q22: 1人あたり平均 給料月額(百円) | W22: 一般職員等(※6) | Z22: 区分 | AH22: 職員数 (人) | AM22: 給料月額 (百円) | AS22: 1人あたり平均 給料月額(百円) | AY22: 地方債現在高 | BN22: 21637066 | BV22: 21774018
AY23: うち公的資金 | BN23: 17645310 | BV23: 17485510
E24: 市区町村長 | L24: 1 | Q24: 8700 | Z24: 一般職員 | AH24: 391 | AM24: 1160097 | AS24: 2967 | AY24: 地方債現在高（臨時財政対策債除き） | BN24: 15449261 | BV24: 15013518
E25: 副市区町村長 | L25: 1 | Q25: 7000 | Z25: うち消防職員 | AH25: 80 | AM25: 238320 | AS25: 2979 | AY25: 債務負担行為額（支出予定額） | BN25: 10804162 | BV25: 3112659
E26: 教育長 | L26: 1 | Q26: 6000 | Z26: うち技能労務職員 | AH26: 4 | AM26: 14188 | AS26: 3547 | AY26: 収益事業収入 | BN26: - | BV26: -
E27: 議会議長 | L27: 1 | Q27: 4000 | Z27: 教育公務員 | AH27: - | AM27: - | AS27: - | AY27: 土地開発基金現在高 | BN27: - | BV27: -
E28: 議会副議長 | L28: 1 | Q28: 3500 | Z28: 臨時職員 | AH28: - | AM28: - | AS28: - | AY28: 積立金 現在高 | BC28: 財政調整基金 | BN28: 1518480 | BV28: 1267646
E29: 議会議員 | L29: 17 | Q29: 3200 | Z29: 合計 | AH29: 391 | AM29: 1160097 | AS29: 2967 | BC29: 減債基金 | BN29: 282572 | BV29: 239752
W30: ラスパイレス指数 | AH30: 96.3 | BC30: その他特定目的基金 | BN30: 2991447 | BV30: 2629075
C32: 一般会計等の一覧 | U32: 事業会計の一覧 | AM32: 公営企業（法適）の一覧 | BE32: 公営企業（法非適）の一覧 | BW32: 関係する一部事務組合等一覧 | CO32: 地方公社・第三セクター等一覧
C33: 項番 | E33: 会計名 | U33: 項番 | W33: 会計名 | AM33: 項番 | AO33: 会計名 | BE33: 項番 | BG33: 会計名 | BW33: 項番 | BY33: 組合等名 | CO33: 項番 | CQ33: 団体名 | DG33: (※3)
C34: =IF(E34="","",1) -> 1 | E34: =IF('各会計、関係団体の財政状況及び健全化判断比率'!B7="","",'各会計、関係団体の財政状況及び健全化判断比率'!B7) -> 一般会計 | U34: =IF(W34="","",MAX(C34:D43)+1) -> 3 | W34: =IF('各会計、関係団体の財政状況及び健全化判断比率'!B28="","",'各会計、関係団体の財政状況及び健全化判断比率'!B28) -> 国民健康保険特別会計 | AM34: =IF(AO34="","",MAX(C34:D43,U34:V43)+1) -> 6 | AO34: =IF('各会計、関係団体の財政状況及び健全化判断比率'!B31="","",'各会計、関係団体の財政状況及び健全化判断比率'!B31) -> 水道事業会計 | BE34: =IF(BG34="","",MAX(C34:D43,U34:V43,AM34:AN43)+1) -> 9 | BG34: =IF('各会計、関係団体の財政状況及び健全化判断比率'!B34="","",'各会計、関係団体の財政状況及び健全化判断比率'!B34) -> カルルス温泉スキー場事業特別会計 | BW34: =IF(BY34="","",MAX(C34:D43,U34:V43,AM34:AN43,BE34:BF43)+1) -> 10 | BY34: =IF('各会計、関係団体の財政状況及び健全化判断比率'!B68="","",'各会計、関係団体の財政状況及び健全化判断比率'!B68) -> 西いぶり広域連合 | CO34: =IF(CQ34="","",MAX(C34:D43,U34:V43,AM34:AN43,BE34:BF43,BW34:BX43)+1) -> 11 | CQ34: =IF('各会計、関係団体の財政状況及び健全化判断比率'!BS7="","",'各会計、関係団体の財政状況及び健全化判断比率'!BS7) -> 一般財団法人登別市文化・スポーツ振興財団 | DG34: =IF('各会計、関係団体の財政状況及び健全化判断比率'!BR7="","",'各会計、関係団体の財政状況及び健全化判断比率'!BR7)
C35: =IF(E35="","",C34+1) -> 2 | E35: =IF('各会計、関係団体の財政状況及び健全化判断比率'!B8="","",'各会計、関係団体の財政状況及び健全化判断比率'!B8) -> 学校給食事業特別会計 | U35: =IF(W35="","",U34+1) -> 4 | W35: =IF('各会計、関係団体の財政状況及び健全化判断比率'!B29="","",'各会計、関係団体の財政状況及び健全化判断比率'!B29) -> 介護保険特別会計 | AM35: =IF(AO35="","",AM34+1) -> 7 | AO35: =IF('各会計、関係団体の財政状況及び健全化判断比率'!B32="","",'各会計、関係団体の財政状況及び健全化判断比率'!B32) -> 下水道事業会計 | BE35: =IF(BG35="","",BE34+1) | BW35: =IF(BY35="","",BW34+1) | BY35: =IF('各会計、関係団体の財政状況及び健全化判断比率'!B69="","",'各会計、関係団体の財政状況及び健全化判断比率'!B69) | CO35: =IF(CQ35="","",CO34+1) | CQ35: =IF('各会計、関係団体の財政状況及び健全化判断比率'!BS8="","",'各会計、関係団体の財政状況及び健全化判断比率'!BS8) | DG35: =IF('各会計、関係団体の財政状況及び健全化判断比率'!BR8="","",'各会計、関係団体の財政状況及び健全化判断比率'!BR8)
C36: =IF(E36="","",C35+1) | E36: =IF('各会計、関係団体の財政状況及び健全化判断比率'!B9="","",'各会計、関係団体の財政状況及び健全化判断比率'!B9) | U36: =IF(W36="","",U35+1) -> 5 | W36: =IF('各会計、関係団体の財政状況及び健全化判断比率'!B30="","",'各会計、関係団体の財政状況及び健全化判断比率'!B30) -> 後期高齢者医療特別会計 | AM36: =IF(AO36="","",AM35+1) -> 8 | AO36: =IF('各会計、関係団体の財政状況及び健全化判断比率'!B33="","",'各会計、関係団体の財政状況及び健全化判断比率'!B33) -> 簡易水道事業会計 | BE36: =IF(BG36="","",BE35+1) | BW36: =IF(BY36="","",BW35+1) | BY36: =IF('各会計、関係団体の財政状況及び健全化判断比率'!B70="","",'各会計、関係団体の財政状況及び健全化判断比率'!B70) | CO36: =IF(CQ36="","",CO35+1) | CQ36: =IF('各会計、関係団体の財政状況及び健全化判断比率'!BS9="","",'各会計、関係団体の財政状況及び健全化判断比率'!BS9) | DG36: =IF('各会計、関係団体の財政状況及び健全化判断比率'!BR9="","",'各会計、関係団体の財政状況及び健全化判断比率'!BR9)
C37: =IF(E37="","",C36+1) | E37: =IF('各会計、関係団体の財政状況及び健全化判断比率'!B10="","",'各会計、関係団体の財政状況及び健全化判断比率'!B10) | U37: =IF(W37="","",U36+1) | AM37: =IF(AO37="","",AM36+1) | BE37: =IF(BG37="","",BE36+1) | BW37: =IF(BY37="","",BW36+1) | BY37: =IF('各会計、関係団体の財政状況及び健全化判断比率'!B71="","",'各会計、関係団体の財政状況及び健全化判断比率'!B71) | CO37: =IF(CQ37="","",CO36+1) | CQ37: =IF('各会計、関係団体の財政状況及び健全化判断比率'!BS10="","",'各会計、関係団体の財政状況及び健全化判断比率'!BS10) | DG37: =IF('各会計、関係団体の財政状況及び健全化判断比率'!BR10="","",'各会計、関係団体の財政状況及び健全化判断比率'!BR10)
C38: =IF(E38="","",C37+1) | E38: =IF('各会計、関係団体の財政状況及び健全化判断比率'!B11="","",'各会計、関係団体の財政状況及び健全化判断比率'!B11) | U38: =IF(W38="","",U37+1) | AM38: =IF(AO38="","",AM37+1) | BE38: =IF(BG38="","",BE37+1) | BW38: =IF(BY38="","",BW37+1) | BY38: =IF('各会計、関係団体の財政状況及び健全化判断比率'!B72="","",'各会計、関係団体の財政状況及び健全化判断比率'!B72) | CO38: =IF(CQ38="","",CO37+1) | CQ38: =IF('各会計、関係団体の財政状況及び健全化判断比率'!BS11="","",'各会計、関係団体の財政状況及び健全化判断比率'!BS11) | DG38: =IF('各会計、関係団体の財政状況及び健全化判断比率'!BR11="","",'各会計、関係団体の財政状況及び健全化判断比率'!BR11)
C39: =IF(E39="","",C38+1) | E39: =IF('各会計、関係団体の財政状況及び健全化判断比率'!B12="","",'各会計、関係団体の財政状況及び健全化判断比率'!B12) | U39: =IF(W39="","",U38+1) | AM39: =IF(AO39="","",AM38+1) | BE39: =IF(BG39="","",BE38+1) | BW39: =IF(BY39="","",BW38+1) | BY39: =IF('各会計、関係団体の財政状況及び健全化判断比率'!B73="","",'各会計、関係団体の財政状況及び健全化判断比率'!B73) | CO39: =IF(CQ39="","",CO38+1) | CQ39: =IF('各会計、関係団体の財政状況及び健全化判断比率'!BS12="","",'各会計、関係団体の財政状況及び健全化判断比率'!BS12) | DG39: =IF('各会計、関係団体の財政状況及び健全化判断比率'!BR12="","",'各会計、関係団体の財政状況及び健全化判断比率'!BR12)
C40: =IF(E40="","",C39+1) | E40: =IF('各会計、関係団体の財政状況及び健全化判断比率'!B13="","",'各会計、関係団体の財政状況及び健全化判断比率'!B13) | U40: =IF(W40="","",U39+1) | AM40: =IF(AO40="","",AM39+1) | BE40: =IF(BG40="","",BE39+1) | BW40: =IF(BY40="","",BW39+1) | BY40: =IF('各会計、関係団体の財政状況及び健全化判断比率'!B74="","",'各会計、関係団体の財政状況及び健全化判断比率'!B74) | CO40: =IF(CQ40="","",CO39+1) | CQ40: =IF('各会計、関係団体の財政状況及び健全化判断比率'!BS13="","",'各会計、関係団体の財政状況及び健全化判断比率'!BS13) | DG40: =IF('各会計、関係団体の財政状況及び健全化判断比率'!BR13="","",'各会計、関係団体の財政状況及び健全化判断比率'!BR13)
C41: =IF(E41="","",C40+1) | E41: =IF('各会計、関係団体の財政状況及び健全化判断比率'!B14="","",'各会計、関係団体の財政状況及び健全化判断比率'!B14) | U41: =IF(W41="","",U40+1) | AM41: =IF(AO41="","",AM40+1) | BE41: =IF(BG41="","",BE40+1) | BW41: =IF(BY41="","",BW40+1) | BY41: =IF('各会計、関係団体の財政状況及び健全化判断比率'!B75="","",'各会計、関係団体の財政状況及び健全化判断比率'!B75) | CO41: =IF(CQ41="","",CO40+1) | CQ41: =IF('各会計、関係団体の財政状況及び健全化判断比率'!BS14="","",'各会計、関係団体の財政状況及び健全化判断比率'!BS14) | DG41: =IF('各会計、関係団体の財政状況及び健全化判断比率'!BR14="","",'各会計、関係団体の財政状況及び健全化判断比率'!BR14)
...

Sheet 普通会計の状況
DH1: 令和6年度 | DP1: 北海道登別市
B2: (1) 普通会計の状況（市町村）
B3: 歳入の状況（単位 千円・％） | AP3: 地方税の状況（単位 千円・％） | CD3: 歳出の状況（単位 千円・％）
B4: 区分 | R4: 決算額 | Z4: 構成比 | AD4: 経常一般財源等 | AL4: 構成比 | AP4: 区分 | BG4: 収入済額 | BO4: 構成比 | BS4: 超過課税分 | CD4: 目的別歳出の状況（単位 千円・％）
B5: 地方税 | R5: 5282273 | Z5: 20.6 | AD5: 4936344 | AL5: 39.9 | AP5: 普通税 | BG5: 4622449 | BO5: 87.5 | BS5: 57599 | CD5: 区分 | CR5: 決算額 (A) | CZ5: 構成比 | DD5: (A)のうち普通建設事業費 | DQ5: (A)のうち充当一般財源等
B6: 地方譲与税 | R6: 156685 | Z6: 0.6 | AD6: 156685 | AL6: 1.3 | AP6: 法定普通税 | BG6: 4622449 | BO6: 87.5 | BS6: 57599 | CD6: 議会費 | CR6: 191522 | CZ6: 0.8 | DD6: - | DQ6: 191521
B7: 利子割交付金 | R7: 2284 | Z7: 0 | AD7: 2284 | AL7: 0 | AP7: 市町村民税 | BG7: 2083466 | BO7: 39.4 | BS7: 57599 | CD7: 総務費 | CR7: 4136768 | CZ7: 16.7 | DD7: 566818 | DQ7: 2612894
B8: 配当割交付金 | R8: 21722 | Z8: 0.1 | AD8: 21722 | AL8: 0.2 | AP8: 個人均等割 | BG8: 65482 | BO8: 1.2 | BS8: - | CD8: 民生費 | CR8: 9793937 | CZ8: 39.6 | DD8: 385213 | DQ8: 5133787
B9: 株式等譲渡所得割交付金 | R9: 33457 | Z9: 0.1 | AD9: 33457 | AL9: 0.3 | AP9: 所得割 | BG9: 1765032 | BO9: 33.4 | BS9: - | CD9: 衛生費 | CR9: 2189646 | CZ9: 8.9 | DD9: 322307 | DQ9: 1209827
B10: 分離課税所得割交付金 | R10: - | Z10: - | AD10: - | AL10: - | AP10: 法人均等割 | BG10: 122356 | BO10: 2.3 | BS10: 20372 | CD10: 労働費 | CR10: 56523 | CZ10: 0.2 | DD10: - | DQ10: 53023
B11: 地方消費税交付金 | R11: 1180681 | Z11: 4.6 | AD11: 1180681 | AL11: 9.6 | AP11: 法人税割 | BG11: 130596 | BO11: 2.5 | BS11: 37227 | CD11: 農林水産業費 | CR11: 85284 | CZ11: 0.3 | DD11: 322 | DQ11: 71411
B12: ゴルフ場利用税交付金 | R12: 10843 | Z12: 0 | AD12: 10843 | AL12: 0.1 | AP12: 固定資産税 | BG12: 2011140 | BO12: 38.1 | BS12: - | CD12: 商工費 | CR12: 907046 | CZ12: 3.7 | DD12: 41602 | DQ12: 604290
B13: 自動車取得税交付金 | R13: - | Z13: - | AD13: - | AL13: - | AP13: うち純固定資産税 | BG13: 1973268 | BO13: 37.4 | BS13: - | CD13: 土木費 | CR13: 2179787 | CZ13: 8.8 | DD13: 511384 | DQ13: 1614999
B14: 軽油引取税交付金 | R14: - | Z14: - | AD14: - | AL14: - | AP14: 軽自動車税 | BG14: 119537 | BO14: 2.3 | BS14: - | CD14: 消防費 | CR14: 1000667 | CZ14: 4 | DD14: 281206 | DQ14: 697885
B15: 自動車税環境性能割交付金 | R15: 16907 | Z15: 0.1 | AD15: 16907 | AL15: 0.1 | AP15: 市町村たばこ税 | BG15: 408306 | BO15: 7.7 | BS15: - | CD15: 教育費 | CR15: 2085810 | CZ15: 8.4 | DD15: 151278 | DQ15: 1383786
B16: 法人事業税交付金 | R16: 72026 | Z16: 0.3 | AD16: 72026 | AL16: 0.6 | AP16: 鉱産税 | BG16: - | BO16: - | BS16: - | CD16: 災害復旧費 | CR16: 102068 | CZ16: 0.4 | DD16: - | DQ16: 4468
B17: 地方特例交付金等 | R17: 224148 | Z17: 0.9 | AD17: 224148 | AL17: 1.8 | AP17: 特別土地保有税 | BG17: - | BO17: - | BS17: - | CD17: 公債費 | CR17: 1985716 | CZ17: 8 | DD17: - | DQ17: 1799802
B18: 住宅借入金等特別税額控除減収補塡特例交付金 | R18: 37465 | Z18: 0.1 | AD18: 37465 | AL18: 0.3 | AP18: 法定外普通税 | BG18: - | BO18: - | BS18: - | CD18: 諸支出金 | CR18: - | CZ18: - | DD18: - | DQ18: -
B19: 定額減税減収補塡特例交付金 | R19: 185776 | Z19: 0.7 | AD19: 185776 | AL19: 1.5 | AP19: 目的税 | BG19: 659824 | BO19: 12.5 | BS19: 156046 | CD19: 前年度繰上充用金 | CR19: - | CZ19: - | DD19: - | DQ19: -
B20: 新型コロナウイルス感染症対策地方税減収補塡特別交付金 | R20: 907 | Z20: 0 | AD20: 907 | AL20: 0 | AP20: 法定目的税 | BG20: 659824 | BO20: 12.5 | BS20: 156046 | CD20: 歳出合計 | CR20: 24714774 | CZ20: 100 | DD20: 2260130 | DQ20: 15377693
B21: 地方交付税 | R21: 6244701 | Z21: 24.4 | AD21: 5654170 | AL21: 45.8 | AP21: 入湯税 | BG21: 313895 | BO21: 5.9 | BS21: 156046
B22: 普通交付税 | R22: 5654170 | Z22: 22.1 | AD22: 5654170 | AL22: 45.8 | AP22: 事業所税 | BG22: - | BO22: - | BS22: - | CD22: 性質別歳出の状況（単位 千円・％）
B23: 特別交付税 | R23: 590531 | Z23: 2.3 | AD23: - | AL23: - | AP23: 都市計画税 | BG23: 345929 | BO23: 6.5 | BS23: - | CD23: 区分 | CR23: 決算額 | CZ23: 構成比 | DD23: 充当一般財源等 | DL23: 経常経費充当一般財源等 | DW23: 経常収支比率
B24: 震災復興特別交付税 | R24: - | Z24: - | AD24: - | AL24: - | AP24: 水利地益税等 | BG24: - | BO24: - | BS24: - | CD24: 義務的経費計 | CR24: 12096157 | CZ24: 48.9 | DD24: 7782651 | DL24: 7047010 | DW24: 56.9
B25: (一般財源計) | R25: 13245727 | Z25: 51.7 | AD25: 12309267 | AL25: 99.6 | AP25: 法定外目的税 | BG25: - | BO25: - | BS25: - | CD25: 人件費 | CR25: 3996532 | CZ25: 16.2 | DD25: 3746385 | DL25: 3710194 | DW25: 29.9
B26: 交通安全対策特別交付金 | R26: 4536 | Z26: 0 | AD26: 4536 | AL26: 0 | AP26: 旧法による税 | BG26: - | BO26: - | BS26: - | CD26: うち職員給 | CR26: 2280742 | CZ26: 9.2 | DD26: 2040852 | DL26: - | DW26: -
B27: 分担金・負担金 | R27: 63580 | Z27: 0.2 | AD27: - | AL27: - | AP27: 合計 | BG27: 5282273 | BO27: 100 | BS27: 213645 | CD27: 扶助費 | CR27: 6113909 | CZ27: 24.7 | DD27: 2236464 | DL27: 1538132 | DW27: 12.4
B28: 使用料 | R28: 321818 | Z28: 1.3 | AD28: 27565 | AL28: 0.2 | CD28: 公債費 | CR28: 1985716 | CZ28: 8 | DD28: 1799802 | DL28: 1798684 | DW28: 14.5
B29: 手数料 | R29: 276554 | Z29: 1.1 | AD29: 833 | AL29: 0 | CD29: 内訳 | CF29: 元利償還金 | CR29: 1985714 | CZ29: 8 | DD29: 1799800 | DL29: 1798682 | DW29: 14.5
B30: 国庫支出金 | R30: 4457443 | Z30: 17.4 | AD30: - | AL30: - | AP30: 区分 | BG30: 令和6年度 | BR30: 令和5年度 | CF30: うち元金 | CR30: 1874952 | CZ30: 7.6 | DD30: 1689048 | DL30: 1687930 | DW30: 13.6
B31: 国有提供交付金(特別区財調交付金) | R31: 323 | Z31: 0 | AD31: 323 | AL31: 0 | AP31: 徴収率 (％) | AT31: 現年 | AX31: 合計 | BG31: 99.3 | BM31: 96.4 | BR31: 99.2 | BX31: 96.3 | CF31: うち利子 | CR31: 110762 | CZ31: 0.4 | DD31: 110752 | DL31: 110752 | DW31: 0.9
B32: 都道府県支出金 | R32: 1436941 | Z32: 5.6 | AD32: - | AL32: - | AU32: ・計 | AX32: 市町村民税 | BG32: 99.3 | BM32: 98.2 | BR32: 99.4 | BX32: 98.3 | CF32: 一時借入金利子 | CR32: 2 | CZ32: 0 | DD32: 2 | DL32: 2 | DW32: 0
B33: 財産収入 | R33: 35211 | Z33: 0.1 | AD33: 11858 | AL33: 0.1 | AX33: 純固定資産税 | BG33: 99 | BM33: 93.7 | BR33: 98.7 | BX33: 93.3 | CD33: その他の経費 | CR33: 10256419 | CZ33: 41.5 | DD33: 7376598 | DL33: 5090755 | DW33: 41.1
B34: 寄附金 | R34: 1454526 | Z34: 5.7 | AD34: - | AL34: - | CD34: 物件費 | CR34: 3932103 | CZ34: 15.9 | DD34: 2944037 | DL34: 2008699 | DW34: 16.2
B35: 繰入金 | R35: 810488 | Z35: 3.2 | AD35: - | AL35: - | AQ35: 公営事業等への繰出 | BG35: 国民健康保険事業会計の状況 | CD35: 維持補修費 | CR35: 568946 | CZ35: 2.3 | DD35: 355864 | DL35: 318116 | DW35: 2.6
B36: 繰越金 | R36: 1105062 | Z36: 4.3 | AD36: - | AL36: - | AQ36: 合計 | AZ36: 2891417 | BG36: 実質収支 | BV36: 152270 | CD36: 補助費等 | CR36: 2179283 | CZ36: 8.8 | DD36: 1744326 | DL36: 1058561 | DW36: 8.5
B37: 諸収入 | R37: 657714 | Z37: 2.6 | AD37: 2032 | AL37: 0 | AQ37: 下水道 | AZ37: 730696 | BG37: 再差引収支 | BV37: 82958 | CD37: うち一部事務組合負担金 | CR37: 224338 | CZ37: 0.9 | DD37: 186393 | DL37: 145822 | DW37: 1.2
B38: 地方債 | R38: 1738000 | Z38: 6.8 | AD38: - | AL38: - | AQ38: 簡易水道 | AZ38: 26887 | BG38: 加入世帯数(世帯) | BV38: 5104 | CD38: 繰出金 | CR38: 2120055 | CZ38: 8.6 | DD38: 1729172 | DL38: 1705379 | DW38: 13.8
B39: うち減収補塡債(特例分) | R39: - | Z39: - | AD39: - | AL39: - | AQ39: 観光施設 | AZ39: 21535 | BG39: 被保険者数(人) | BV39: 7085 | CD39: 積立金 | CR39: 1449725 | CZ39: 5.9 | DD39: 603199 | DL39: - | DW39: -
B40: うち臨時財政対策債 | R40: 35400 | Z40: 0.1 | AD40: - | AL40: - | AQ40: その他 | AZ40: 13119 | BG40: 被保険者 1人当り | BM40: 保険税(料)収入額 | BV40: 89 | CD40: 投資・出資金・貸付金 | CR40: 6307 | CZ40: 0 | DD40: - | DL40: - | DW40: -
...

Sheet 各会計、関係団体の財政状況及び健全化判断比率
A2: (2)各会計、関係団体の財政状況及び健全化判断比率（市町村） | DJ2: 令和6年度 | DQ2: 北海道登別市
A4: 一般会計等の財政状況（単位：百万円） | BQ4: 地方公社・第三セクター等の経営状況及び地方公共団体の財政的支援の状況（単位：百万円）
A5: 会計名 | Q5: 歳入 | V5: 歳出 | AA5: 形式収支 | AF5: 実質収支 | AK5: 他会計等 からの 繰入金 | AP5: 地方債 現在高 | AU5: 備考 | BQ5: 地方公社・第三セクター等名 | CH5: 経常損益 | CM5: 純資産又は 正味財産 | CR5: 当該団体 からの 出資金 | CW5: 当該団体 からの 補助金 | DB5: 当該団体 からの 貸付金 | DG5: 当該団体からの債務保証に係る債務残高 | DL5: 当該団体からの損失補償に係る債務残高 | DQ5: 一般会計等 負担見込額 | DV5: 備考
A7: 1 | B7: 一般会計 | Q7: 25262 | V7: 24369 | AA7: 893 | AF7: 674 | AK7: 794 | AP7: 21594 | BQ7: 1 | BS7: 一般財団法人登別市文化・スポーツ振興財団 | CH7: -15 | CM7: 0 | CR7: 35 | CW7: 40 | DB7: - | DG7: - | DL7: - | DQ7: -
A8: 2 | B8: 学校給食事業特別会計 | Q8: 345 | V8: 345 | AA8: - | AF8: - | AK8: 134 | AP8: 43 | BQ8: 2
A9: 3 | BQ9: 3
A10: 4 | BQ10: 4
A11: 5 | BQ11: 5
A12: 6 | BQ12: 6
A13: 7 | BQ13: 7
A14: 8 | BQ14: 8
A15: 9 | BQ15: 9
A16: 10 | BQ16: 10
A17: 11 | BQ17: 11
A18: 12 | BQ18: 12
A19: 13 | BQ19: 13
A20: 14 | BQ20: 14
A21: 15 | BQ21: 15
A22: 16 | AZ22: 実質赤字額 | BQ22: 16
A23: 計 | B23: 一般会計等（純計） | Q23: 25607 | V23: 24714 | AA23: 893 | AF23: 674 | AP23: 21637 | AZ23: - | BQ23: 17
A24: ※一般会計等（純計）は、各会計の相互間の繰入・繰出等の重複を控除したものであり、各会計の合計と一致しない場合がある。 | BQ24: 18
A25: 公営企業会計等の財政状況（単位：百万円） | BQ25: 19
A26: 会計名 | Q26: 総収益 （歳入） | V26: 総費用 （歳出） | AA26: 純損益 （形式収支） | AF26: 資金剰余額 /不足額 （実質収支） | AK26: 他会計等 からの 繰入金 | AP26: 企業債 （地方債） 現在高 | AU26: 左のうち 一般会計等 繰入見込額 | AZ26: 資金不足 比率 | BE26: 備考 | BQ26: 20
BQ27: 21
A28: 1 | B28: 国民健康保険特別会計 | Q28: 4722 | V28: 4570 | AA28: 152 | AF28: 152 | AK28: 411 | AP28: - | AU28: - | AZ28: - | BQ28: 22
A29: 2 | B29: 介護保険特別会計 | Q29: 3964 | V29: 3805 | AA29: 159 | AF29: 159 | AK29: 605 | AP29: - | AU29: - | AZ29: - | BQ29: 23
A30: 3 | B30: 後期高齢者医療特別会計 | Q30: 953 | V30: 953 | AA30: 0 | AF30: 1 | AK30: 248 | AP30: - | AU30: - | AZ30: - | BQ30: 24
A31: 4 | B31: 水道事業会計 | Q31: 1010 | V31: 922 | AA31: 88 | AF31: 1109 | AK31: 1 | AP31: 6050 | AU31: - | AZ31: - | BE31: 法適用企業 | BQ31: 25
A32: 5 | B32: 下水道事業会計 | Q32: 1663 | V32: 1524 | AA32: 139 | AF32: 119 | AK32: 744 | AP32: 13510 | AU32: 8903 | AZ32: - | BE32: 法適用企業 | BQ32: 26
A33: 6 | B33: 簡易水道事業会計 | Q33: 33 | V33: 39 | AA33: -6 | AF33: 1 | AK33: 27 | AP33: 278 | AU33: 204 | AZ33: - | BE33: 法適用企業 | BQ33: 27
A34: 7 | B34: カルルス温泉スキー場事業特別会計 | Q34: 116 | V34: 116 | AA34: - | AF34: - | AK34: 22 | AP34: - | AU34: - | AZ34: - | BE34: 法非適用企業 | BQ34: 28
A35: 8 | BQ35: 29
A36: 9 | BQ36: 30
A37: 10 | BQ37: 31
A38: 11 | BQ38: 32
A39: 12 | BQ39: 33
A40: 13 | BQ40: 34
A41: 14 | BQ41: 35
A42: 15 | BQ42: 36
A43: 16 | BQ43: 37
...

Sheet 財政比較分析表

Sheet 経常経費分析表（経常収支比率の分析）

Sheet 経常経費分析表（人件費・公債費・普通建設事業費の分析）
A5: 人件費及び人件費に準ずる費用の分析
AK6: 人件費及び人件費に準ずる費用
AO7: 当該団体決算額 （千円） | AQ7: 人口1人当たり決算額
AP8: 当該団体（円） | AQ8: 類似団体平均（円） | AR8: 対比（％）
AK9: 人件費 | AO9: 3996532 | AP9: 91632 | AQ9: 99044 | AR9: -7.5
AK10: 一部事務組合負担金（補助費等） | AO10: 11639 | AP10: 267 | AQ10: 12597 | AR10: -97.9
AK11: 公営企業（法適）等に対する繰出し（補助費等） | AO11: 12768 | AP11: 293 | AQ11: 1194 | AR11: -75.5
AK12: 公営企業（法適）等に対する繰出し（投資及び出資金・貸付金） | AO12: - | AP12: - | AQ12: 18 | AR12: -
AK13: 公営企業（法非適）等に対する繰出し（繰出金） | AO13: 169029 | AP13: 3875 | AQ13: 3890 | AR13: -0.4
AK14: 事業費支弁に係る職員の人件費（投資的経費） | AO14: 45454 | AP14: 1042 | AQ14: 1837 | AR14: -43.3
AK15: ▲退職金 | AO15: -160596 | AP15: -3682 | AQ15: -6318 | AR15: -41.7
AK16: 合計 | AO16: 4074826 | AP16: 93427 | AQ16: 112262 | AR16: -16.8
AK19: 参考
AO20: 当該団体 | AP20: 類似団体平均 | AQ20: 対比（差引）
AK21: 人口1,000人当たり職員数（人） | AO21: 8.96 | AP21: 9.26 | AQ21: -0.3
AK22: ラスパイレス指数 | AO22: 96.3 | AP22: 97.3 | AQ22: -1
A26: （注）人口については、各調査対象年度の1月1日現在の住民基本台帳に登載されている人口に基づいている。
A28: 公債費及び公債費に準ずる費用の分析
AK29: 公債費及び公債費に準ずる費用（実質公債費比率の構成要素）
AO30: 当該団体決算額 （千円） | AQ30: 人口1人当たり決算額
AP31: 当該団体（円） | AQ31: 類似団体平均（円） | AR31: 対比（％）
AK32: 元利償還金の額 （繰上償還額等を除く） | AO32: 1985714 | AP32: 45528 | AQ32: 60713 | AR32: -25
AK33: 積立不足額を考慮して算定した額 | AO33: - | AP33: - | AQ33: - | AR33: -
AK34: 満期一括償還地方債の一年当たりの元金償還金に相当するもの （年度割相当額） | AO34: - | AP34: - | AQ34: - | AR34: -
AK35: 公営企業に要する経費の財源とする地方債の償還の財源に 充てたと認められる繰入金 | AO35: 744870 | AP35: 17078 | AQ35: 14168 | AR35: 20.5
AK36: 一部事務組合等の起こした地方債に充てたと認められる 補助金又は負担金 | AO36: - | AP36: - | AQ36: 2586 | AR36: -
AK37: 公債費に準ずる債務負担行為に係るもの | AO37: 15138 | AP37: 347 | AQ37: 189 | AR37: 83.6
AK38: 一時借入金利子 （同一団体における会計間の現金運用に係る利子は除く） | AO38: 2 | AP38: 0 | AQ38: 8 | AR38: -100
AK39: ▲特定財源の額 | AO39: -558089 | AP39: -12796 | AQ39: -5399 | AR39: 137
AK40: ▲地方債に係る元利償還金及び準元利償還金に要する経費として 普通交付税の額の算定に用いる基準財政需要額に算入された額 | AO40: -1339181 | AP40: -30705 | AQ40: -49527 | AR40: -38
AK41: 合計 | AO41: 848454 | AP41: 19453 | AQ41: 22738 | AR41: -14.4
A47: （参考） 普通建設事業費の分析
AK48: 普通建設事業費
AM49: 当該団体決算額 （千円） | AN49: 人口１人当たり決算額
AN50: 当該団体(円) | AO50: 増減率(%)(A) | AP50: 類似団体平均(円) | AQ50: 増減率(%)(B) | AR50: (A)-(B)
AK51: R02 | AM51: 2337256 | AN51: 49906 | AO51: -45.3 | AP51: 84962 | AQ51: 7.2 | AR51: -52.5
AL52: うち単独分 | AM52: 1532877 | AN52: 32731 | AO52: -8 | AP52: 42793 | AQ52: 2.2 | AR52: -10.2
AK53: R03 | AM53: 1941669 | AN53: 42087 | AO53: -15.7 | AP53: 71279 | AQ53: -16.1 | AR53: 0.4
AL54: うち単独分 | AM54: 1018891 | AN54: 22085 | AO54: -32.5 | AP54: 36731 | AQ54: -14.2 | AR54: -18.3
AK55: R04 | AM55: 2375735 | AN55: 52530 | AO55: 24.8 | AP55: 74994 | AQ55: 5.2 | AR55: 19.6
...

Sheet 性質別歳出決算分析表（住民一人当たりのコスト）

Sheet 目的別歳出決算分析表（住民一人当たりのコスト）

Sheet 実質収支比率等に係る経年分析
J45: 標準財政規模比（％）
B46: 区分 | E46: 年度 | F46: R02 | G46: R03 | H46: R04 | I46: R05 | J46: R06
C47: 財政調整基金残高 | F47: 4.78 | G47: 9.43 | H47: 9.75 | I47: 10.66 | J47: 12.72
C48: 実質収支額 | F48: 6.43 | G48: 6.94 | H48: 6.17 | I48: 6.59 | J48: 5.65
C49: 実質単年度収支 | F49: 5.26 | G49: 5.69 | H49: ▲ 0.90 | I49: 1.22 | J49: 1.19

Sheet 連結実質赤字比率に係る赤字・黒字の構成分析
J32: 標準財政規模比（％）
B33: 会計 | E33: 年度 | F33: R02 | G33: R03 | H33: R04 | I33: R05 | J33: R06
C34: 水道事業会計 | F34: 6.16 | G34: 6.62 | H34: 7.79 | I34: 9.15 | J34: 9.29
C35: 一般会計 | F35: 6.42 | G35: 6.93 | H35: 6.16 | I35: 6.58 | J35: 5.64
C36: 介護保険特別会計 | F36: 1.38 | G36: 1.21 | H36: 0.96 | I36: 1.01 | J36: 1.32
C37: 国民健康保険特別会計 | F37: 6.38 | G37: 3.69 | H37: 3.41 | I37: 2.54 | J37: 1.27
C38: 下水道事業会計 | F38: 2.07 | G38: 1.8 | H38: 1.05 | I38: 0.69 | J38: 0.99
C39: 後期高齢者医療特別会計 | F39: 0 | G39: 0 | H39: 0 | I39: 0 | J39: 0
C40: 簡易水道事業会計 | F40: 0 | G40: ▲ 0.00 | H40: 0 | I40: 0 | J40: 0
C41: 学校給食事業特別会計 | F41: 0 | G41: 0 | H41: 0 | I41: 0 | J41: 0
C42: その他会計（赤字） | F42: - | G42: - | H42: - | I42: - | J42: -
C43: その他会計（黒字） | F43: 0 | G43: 0 | H43: 0 | I43: 0 | J43: 0

Sheet 実質公債費比率（分子）の構造
O43: （百万円）
B44: 分子の構造 | J44: 年度 | K44: R02 | L44: R03 | M44: R04 | N44: R05 | O44: R06
B45: 元利償還金等(A) | E45: 元利償還金 | K45: 2405 | L45: 2364 | M45: 2337 | N45: 2281 | O45: 1986
E46: 減債基金積立不足算定額※2 | K46: - | L46: - | M46: - | N46: - | O46: -
E47: 満期一括償還地方債に係る年度割相当額 | K47: - | L47: - | M47: - | N47: - | O47: -
E48: 公営企業債の元利償還金に対する繰入金 | K48: 833 | L48: 770 | M48: 744 | N48: 753 | O48: 745
E49: 組合等が起こした地方債の元利償還金に対する負担金等 | K49: 4 | L49: 4 | M49: 4 | N49: - | O49: -
E50: 債務負担行為に基づく支出額 | K50: 16 | L50: 16 | M50: 15 | N50: 15 | O50: 15
E51: 一時借入金の利子 | K51: 0 | L51: - | M51: 0 | N51: 0 | O51: 0
B52: 算入公債費等(B) | E52: 算入公債費等 | K52: 2040 | L52: 2036 | M52: 1993 | N52: 1971 | O52: 1898
B53: (A)－(B) | E53: 実質公債費比率の分子 | K53: 1218 | L53: 1118 | M53: 1107 | N53: 1078 | O53: 848
B54: ※ 減債基金積立不足算定額=(C)×(１－(D)/(E))
B56: （参考） | O56: （百万円）
J57: 年度 | K57: R02 | L57: R03 | M57: R04 | N57: R05 | O57: R06
B58: 減債基金 積立状況等（注） | D58: 満期一括償還地方債に係る実質償還額又は理論償還額のいずれか少ない額(C)
D59: 前年度末減債基金残高(D)
D60: 前年度末減債基金積立相当額(E)
D61: （注）減債基金のうち、実質公債費比率の算定に用いる満期一括償還地方債の償還の財源に係るもののみを記入。
D62: 減債基金積立金の年度を超えた一般会計又は特別会計への貸付額は控除して記入。

Sheet 将来負担比率（分子）の構造
M39: （百万円）
B40: 分子の構造 | H40: 年度 | I40: R02 | J40: R03 | K40: R04 | L40: R05 | M40: R06
B41: 将来負担額(A) | E41: 一般会計等に係る地方債の現在高 | I41: 22241 | J41: 21716 | K41: 21134 | L41: 21774 | M41: 21637
E42: 債務負担行為に基づく支出予定額 | I42: 139 | J42: 125 | K42: 111 | L42: 97 | M42: 83
E43: 公営企業債等繰入見込額 | I43: 11852 | J43: 10871 | K43: 9929 | L43: 10481 | M43: 9107
E44: 組合等負担等見込額 | I44: 7 | J44: 4 | K44: - | L44: - | M44: -
E45: 退職手当負担見込額 | I45: 2249 | J45: 2333 | K45: 2388 | L45: 2536 | M45: 2577
E46: 設立法人等の負債額等負担見込額 | I46: - | J46: - | K46: - | L46: - | M46: -
E47: うち、健全化法施行規則附則第三条に係る負担見込額 | I47: - | J47: - | K47: - | L47: - | M47: -
E48: 連結実質赤字額 | I48: - | J48: - | K48: - | L48: - | M48: -
E49: 組合等連結実質赤字額負担見込額 | I49: - | J49: - | K49: - | L49: - | M49: -
B50: 充当可能財源等(B) | E50: 充当可能基金 | I50: 2945 | J50: 4732 | K50: 5219 | L50: 5576 | M50: 6261
E51: 充当可能特定歳入 | I51: 6701 | J51: 6482 | K51: 6687 | L51: 7028 | M51: 6452
E52: 基準財政需要額算入見込額 | I52: 18524 | J52: 17821 | K52: 17191 | L52: 16549 | M52: 16721
B53: (A)－(B) | E53: 将来負担比率の分子 | I53: 8319 | J53: 6014 | K53: 4466 | L53: 5736 | M53: 3970

Sheet 基金残高に係る経年分析
H53: （百万円）
B54: 区分 | E54: 年度 | F54: R04 | G54: R05 | H54: R06
C55: 財政調整基金 | F55: 1168 | G55: 1268 | H55: 1518
C56: 減債基金 | F56: 205 | G56: 240 | H56: 283
C57: その他特定目的基金 | F57: 2456 | G57: 2629 | H57: 2991
C58: 庁舎整備基金 | F58: 704 | G58: 891 | H58: 1020
C59: ふるさとまちづくり応援基金 | F59: 532 | G59: 516 | H59: 782
C60: 退職手当積立金 | F60: 350 | G60: 455 | H60: 463
C61: 一般廃棄物処理施設整備基金 | F61: 274 | G61: 290 | H61: 298
C62: 新図書館建設基金 | F62: 140 | G62: 140 | H62: 140
C63: 基金残高合計 | F63: 3829 | G63: 4136 | H63: 4792

Sheet 公会計指標分析・財政指標組合せ分析表
B41: 将来負担比率及び有形固定資産減価償却率の組合せによる分析
AN42: 分析欄
AN43: 将来負担比率、有形固定資産減価償却率ともに類似団体と比較して高い状況となっている。将来負担比率については、地方債現在高の増減少等により、前年度より１７．４％減少し、類似団体内平均値との差も１７．０％低下しており、大きく改善が見られた。また、有形固定資産減価償却率は、消防本部の新設や各種施設の維持更新等を実施したものの、既存の固定資産の老朽化が進んだことにより、令和5年度から１．２％増加し、類似団体内平均値との差は０．１％拡大した。 今後については、市役所本庁舎建設事業をはじめとした大型事業が控えており、有形固定資産減価償却率の改善が見込めるものの、将来負担比率が上昇していくことが想定されるため、大型事業推進プランや廃止施設等除却プランなどに則り、施設の除却や更新を計画的・効率的に行う。
AN49: ( 参考 ）
BP50: R02 | BX50: R03 | CF50: R04 | CN50: R05 | CV50: R06
AN51: 当該団体値 | BB51: 将来負担比率 | BP51: 81.8 | BX51: 55.7 | CF51: 42.5 | CN51: 54.8 | CV51: 37.4
BB53: 有形固定資産減価償却率 | BP53: 65.3 | BX53: 66.3 | CF53: 67.3 | CN53: 67.6 | CV53: 68.8
AN55: 類似団体内平均値 | BB55: 将来負担比率 | BP55: 32.5 | BX55: 23 | CF55: 15.9 | CN55: 13 | CV55: 12.6
BB57: 有形固定資産減価償却率 | BP57: 62.6 | BX57: 62.8 | CF57: 64 | CN57: 64.7 | CV57: 65.8
B63: 将来負担比率及び実質公債費比率の組合せによる分析
AN64: 分析欄
AN65: 実質公債費比率は前年度より０．８％低下し減少傾向であるものの、依然として将来負担比率、実質公債費比率ともに類似団体内平均値より高い状況となっている。 今後については、市役所本庁舎建設事業をはじめとした大型事業の実施に伴い、地方債現在高や元利償還が増加していくことが見込まれるため、実質公債費比率や将来負担比率の上昇に注意しつつ、中期財政見通し等の各種計画に基づいた計画的な事業実施や地方債の発行などにより、財政負担の軽減を図り、安定した財政運営に努める。
AN71: ( 参考 ）
BP72: R02 | BX72: R03 | CF72: R04 | CN72: R05 | CV72: R06
AN73: 当該団体値 | BB73: 将来負担比率 | BP73: 81.8 | BX73: 55.7 | CF73: 42.5 | CN73: 54.8 | CV73: 37.4
BB75: 実質公債費比率 | BP75: 12.4 | BX75: 11.4 | CF75: 10.9 | CN75: 10.4 | CV75: 9.6
AN77: 類似団体内平均値 | BB77: 将来負担比率 | BP77: 32.5 | BX77: 23 | CF77: 15.9 | CN77: 13 | CV77: 12.6
BB79: 実質公債費比率 | BP79: 8.7 | BX79: 8.2 | CF79: 8 | CN79: 8.2 | CV79: 8.2

Sheet 施設類型別ストック情報分析表①

Sheet 施設類型別ストック情報分析表②

Sheet データシート
D2: 当該団体(円) | F2: 類似団体内平均(円)
A3: R02 | D3: 49906 | F3: 84962
D4: 32731 | F4: 42793
A5: R03 | D5: 42087 | F5: 71279
D6: 22085 | F6: 36731
A7: R04 | D7: 52530 | F7: 74994
D8: 28251 | F8: 36188
A9: R05 | D9: 83116 | F9: 71849
D10: 67752 | F10: 36144
A11: R06 | D11: 51820 | F11: 82962
D12: 37963 | F12: 42835
D13: 55892 | F13: 77209
D14: 37756 | F14: 38938
A17: 実質収支比率等に係る経年分析
B18: =実質収支比率等に係る経年分析!F$46 -> R02 | C18: =実質収支比率等に係る経年分析!G$46 -> R03 | D18: =実質収支比率等に係る経年分析!H$46 -> R04 | E18: =実質収支比率等に係る経年分析!I$46 -> R05 | F18: =実質収支比率等に係る経年分析!J$46 -> R06
A19: 実質収支額 | B19: =ROUND(VALUE(SUBSTITUTE(実質収支比率等に係る経年分析!F$48,"▲","-")),2) -> 6.43 | C19: =ROUND(VALUE(SUBSTITUTE(実質収支比率等に係る経年分析!G$48,"▲","-")),2) -> 6.94 | D19: =ROUND(VALUE(SUBSTITUTE(実質収支比率等に係る経年分析!H$48,"▲","-")),2) -> 6.17 | E19: =ROUND(VALUE(SUBSTITUTE(実質収支比率等に係る経年分析!I$48,"▲","-")),2) -> 6.59 | F19: =ROUND(VALUE(SUBSTITUTE(実質収支比率等に係る経年分析!J$48,"▲","-")),2) -> 5.65
A20: 財政調整基金残高 | B20: =ROUND(VALUE(SUBSTITUTE(実質収支比率等に係る経年分析!F$47,"▲","-")),2) -> 4.78 | C20: =ROUND(VALUE(SUBSTITUTE(実質収支比率等に係る経年分析!G$47,"▲","-")),2) -> 9.43 | D20: =ROUND(VALUE(SUBSTITUTE(実質収支比率等に係る経年分析!H$47,"▲","-")),2) -> 9.75 | E20: =ROUND(VALUE(SUBSTITUTE(実質収支比率等に係る経年分析!I$47,"▲","-")),2) -> 10.66 | F20: =ROUND(VALUE(SUBSTITUTE(実質収支比率等に係る経年分析!J$47,"▲","-")),2) -> 12.72
A21: 実質単年度収支 | B21: =IF(ISNUMBER(VALUE(SUBSTITUTE(実質収支比率等に係る経年分析!F$49,"▲","-"))),ROUND(VALUE(SUBSTITUTE(実質収支比率等に係る経年分析!F$49,"▲","-")),2),NA()) -> 5.26 | C21: =IF(ISNUMBER(VALUE(SUBSTITUTE(実質収支比率等に係る経年分析!G$49,"▲","-"))),ROUND(VALUE(SUBSTITUTE(実質収支比率等に係る経年分析!G$49,"▲","-")),2),NA()) -> 5.69 | D21: =IF(ISNUMBER(VALUE(SUBSTITUTE(実質収支比率等に係る経年分析!H$49,"▲","-"))),ROUND(VALUE(SUBSTITUTE(実質収支比率等に係る経年分析!H$49,"▲","-")),2),NA()) -> -0.9 | E21: =IF(ISNUMBER(VALUE(SUBSTITUTE(実質収支比率等に係る経年分析!I$49,"▲","-"))),ROUND(VALUE(SUBSTITUTE(実質収支比率等に係る経年分析!I$49,"▲","-")),2),NA()) -> 1.22 | F21: =IF(ISNUMBER(VALUE(SUBSTITUTE(実質収支比率等に係る経年分析!J$49,"▲","-"))),ROUND(VALUE(SUBSTITUTE(実質収支比率等に係る経年分析!J$49,"▲","-")),2),NA()) -> 1.19
A24: 連結実質赤字比率に係る赤字・黒字の構成分析
B25: ='連結実質赤字比率に係る赤字・黒字の構成分析'!F$33 -> R02 | D25: ='連結実質赤字比率に係る赤字・黒字の構成分析'!G$33 -> R03 | F25: ='連結実質赤字比率に係る赤字・黒字の構成分析'!H$33 -> R04 | H25: ='連結実質赤字比率に係る赤字・黒字の構成分析'!I$33 -> R05 | J25: ='連結実質赤字比率に係る赤字・黒字の構成分析'!J$33 -> R06
B26: 赤字額 | C26: 黒字額 | D26: 赤字額 | E26: 黒字額 | F26: 赤字額 | G26: 黒字額 | H26: 赤字額 | I26: 黒字額 | J26: 赤字額 | K26: 黒字額
A27: =IF('連結実質赤字比率に係る赤字・黒字の構成分析'!C$43="",NA(),'連結実質赤字比率に係る赤字・黒字の構成分析'!C$43) -> その他会計（黒字） | B27: =IF(ROUND(VALUE(SUBSTITUTE('連結実質赤字比率に係る赤字・黒字の構成分析'!F$43,"▲","-")),2)<0,ABS(ROUND(VALUE(SUBSTITUTE('連結実質赤字比率に係る赤字・黒字の構成分析'!F$43,"▲","-")),2)),NA()) -> #N/A | C27: =IF(ROUND(VALUE(SUBSTITUTE('連結実質赤字比率に係る赤字・黒字の構成分析'!F$43,"▲","-")),2)>=0,ABS(ROUND(VALUE(SUBSTITUTE('連結実質赤字比率に係る赤字・黒字の構成分析'!F$43,"▲","-")),2)),NA()) -> 0 | D27: =IF(ROUND(VALUE(SUBSTITUTE('連結実質赤字比率に係る赤字・黒字の構成分析'!G$43,"▲","-")),2)<0,ABS(ROUND(VALUE(SUBSTITUTE('連結実質赤字比率に係る赤字・黒字の構成分析'!G$43,"▲","-")),2)),NA()) -> #N/A | E27: =IF(ROUND(VALUE(SUBSTITUTE('連結実質赤字比率に係る赤字・黒字の構成分析'!G$43,"▲","-")),2)>=0,ABS(ROUND(VALUE(SUBSTITUTE('連結実質赤字比率に係る赤字・黒字の構成分析'!G$43,"▲","-")),2)),NA()) -> 0 | F27: =IF(ROUND(VALUE(SUBSTITUTE('連結実質赤字比率に係る赤字・黒字の構成分析'!H$43,"▲","-")),2)<0,ABS(ROUND(VALUE(SUBSTITUTE('連結実質赤字比率に係る赤字・黒字の構成分析'!H$43,"▲","-")),2)),NA()) -> #N/A | G27: =IF(ROUND(VALUE(SUBSTITUTE('連結実質赤字比率に係る赤字・黒字の構成分析'!H$43,"▲","-")),2)>=0,ABS(ROUND(VALUE(SUBSTITUTE('連結実質赤字比率に係る赤字・黒字の構成分析'!H$43,"▲","-")),2)),NA()) -> 0 | H27: =IF(ROUND(VALUE(SUBSTITUTE('連結実質赤字比率に係る赤字・黒字の構成分析'!I$43,"▲","-")),2)<0,ABS(ROUND(VALUE(SUBSTITUTE('連結実質赤字比率に係る赤字・黒字の構成分析'!I$43,"▲","-")),2)),NA()) -> #N/A | I27: =IF(ROUND(VALUE(SUBSTITUTE('連結実質赤字比率に係る赤字・黒字の構成分析'!I$43,"▲","-")),2)>=0,ABS(ROUND(VALUE(SUBSTITUTE('連結実質赤字比率に係る赤字・黒字の構成分析'!I$43,"▲","-")),2)),NA()) -> 0 | J27: =IF(ROUND(VALUE(SUBSTITUTE('連結実質赤字比率に係る赤字・黒字の構成分析'!J$43,"▲","-")),2)<0,ABS(ROUND(VALUE(SUBSTITUTE('連結実質赤字比率に係る赤字・黒字の構成分析'!J$43,"▲","-")),2)),NA()) -> #N/A | K27: =IF(ROUND(VALUE(SUBSTITUTE('連結実質赤字比率に係る赤字・黒字の構成分析'!J$43,"▲","-")),2)>=0,ABS(ROUND(VALUE(SUBSTITUTE('連結実質赤字比率に係る赤字・黒字の構成分析'!J$43,"▲","-")),2)),NA()) -> 0
A28: =IF('連結実質赤字比率に係る赤字・黒字の構成分析'!C$42="",NA(),'連結実質赤字比率に係る赤字・黒字の構成分析'!C$42) -> その他会計（赤字） | B28: =IF(ROUND(VALUE(SUBSTITUTE('連結実質赤字比率に係る赤字・黒字の構成分析'!F$42,"▲","-")),2)<0,ABS(ROUND(VALUE(SUBSTITUTE('連結実質赤字比率に係る赤字・黒字の構成分析'!F$42,"▲","-")),2)),NA()) -> #VALUE! | C28: =IF(ROUND(VALUE(SUBSTITUTE('連結実質赤字比率に係る赤字・黒字の構成分析'!F$42,"▲","-")),2)>=0,ABS(ROUND(VALUE(SUBSTITUTE('連結実質赤字比率に係る赤字・黒字の構成分析'!F$42,"▲","-")),2)),NA()) -> #VALUE! | D28: =IF(ROUND(VALUE(SUBSTITUTE('連結実質赤字比率に係る赤字・黒字の構成分析'!G$42,"▲","-")),2)<0,ABS(ROUND(VALUE(SUBSTITUTE('連結実質赤字比率に係る赤字・黒字の構成分析'!G$42,"▲","-")),2)),NA()) -> #VALUE! | E28: =IF(ROUND(VALUE(SUBSTITUTE('連結実質赤字比率に係る赤字・黒字の構成分析'!G$42,"▲","-")),2)>=0,ABS(ROUND(VALUE(SUBSTITUTE('連結実質赤字比率に係る赤字・黒字の構成分析'!G$42,"▲","-")),2)),NA()) -> #VALUE! | F28: =IF(ROUND(VALUE(SUBSTITUTE('連結実質赤字比率に係る赤字・黒字の構成分析'!H$42,"▲","-")),2)<0,ABS(ROUND(VALUE(SUBSTITUTE('連結実質赤字比率に係る赤字・黒字の構成分析'!H$42,"▲","-")),2)),NA()) -> #VALUE! | G28: =IF(ROUND(VALUE(SUBSTITUTE('連結実質赤字比率に係る赤字・黒字の構成分析'!H$42,"▲","-")),2)>=0,ABS(ROUND(VALUE(SUBSTITUTE('連結実質赤字比率に係る赤字・黒字の構成分析'!H$42,"▲","-")),2)),NA()) -> #VALUE! | H28: =IF(ROUND(VALUE(SUBSTITUTE('連結実質赤字比率に係る赤字・黒字の構成分析'!I$42,"▲","-")),2)<0,ABS(ROUND(VALUE(SUBSTITUTE('連結実質赤字比率に係る赤字・黒字の構成分析'!I$42,"▲","-")),2)),NA()) -> #VALUE! | I28: =IF(ROUND(VALUE(SUBSTITUTE('連結実質赤字比率に係る赤字・黒字の構成分析'!I$42,"▲","-")),2)>=0,ABS(ROUND(VALUE(SUBSTITUTE('連結実質赤字比率に係る赤字・黒字の構成分析'!I$42,"▲","-")),2)),NA()) -> #VALUE! | J28: =IF(ROUND(VALUE(SUBSTITUTE('連結実質赤字比率に係る赤字・黒字の構成分析'!J$42,"▲","-")),2)<0,ABS(ROUND(VALUE(SUBSTITUTE('連結実質赤字比率に係る赤字・黒字の構成分析'!J$42,"▲","-")),2)),NA()) -> #VALUE! | K28: =IF(ROUND(VALUE(SUBSTITUTE('連結実質赤字比率に係る赤字・黒字の構成分析'!J$42,"▲","-")),2)>=0,ABS(ROUND(VALUE(SUBSTITUTE('連結実質赤字比率に係る赤字・黒字の構成分析'!J$42,"▲","-")),2)),NA()) -> #VALUE!
A29: =IF('連結実質赤字比率に係る赤字・黒字の構成分析'!C$41="",NA(),'連結実質赤字比率に係る赤字・黒字の構成分析'!C$41) -> 学校給食事業特別会計 | B29: =IF(ROUND(VALUE(SUBSTITUTE('連結実質赤字比率に係る赤字・黒字の構成分析'!F$41,"▲","-")),2)<0,ABS(ROUND(VALUE(SUBSTITUTE('連結実質赤字比率に係る赤字・黒字の構成分析'!F$41,"▲","-")),2)),NA()) -> #N/A | C29: =IF(ROUND(VALUE(SUBSTITUTE('連結実質赤字比率に係る赤字・黒字の構成分析'!F$41,"▲","-")),2)>=0,ABS(ROUND(VALUE(SUBSTITUTE('連結実質赤字比率に係る赤字・黒字の構成分析'!F$41,"▲","-")),2)),NA()) -> 0 | D29: =IF(ROUND(VALUE(SUBSTITUTE('連結実質赤字比率に係る赤字・黒字の構成分析'!G$41,"▲","-")),2)<0,ABS(ROUND(VALUE(SUBSTITUTE('連結実質赤字比率に係る赤字・黒字の構成分析'!G$41,"▲","-")),2)),NA()) -> #N/A | E29: =IF(ROUND(VALUE(SUBSTITUTE('連結実質赤字比率に係る赤字・黒字の構成分析'!G$41,"▲","-")),2)>=0,ABS(ROUND(VALUE(SUBSTITUTE('連結実質赤字比率に係る赤字・黒字の構成分析'!G$41,"▲","-")),2)),NA()) -> 0 | F29: =IF(ROUND(VALUE(SUBSTITUTE('連結実質赤字比率に係る赤字・黒字の構成分析'!H$41,"▲","-")),2)<0,ABS(ROUND(VALUE(SUBSTITUTE('連結実質赤字比率に係る赤字・黒字の構成分析'!H$41,"▲","-")),2)),NA()) -> #N/A | G29: =IF(ROUND(VALUE(SUBSTITUTE('連結実質赤字比率に係る赤字・黒字の構成分析'!H$41,"▲","-")),2)>=0,ABS(ROUND(VALUE(SUBSTITUTE('連結実質赤字比率に係る赤字・黒字の構成分析'!H$41,"▲","-")),2)),NA()) -> 0 | H29: =IF(ROUND(VALUE(SUBSTITUTE('連結実質赤字比率に係る赤字・黒字の構成分析'!I$41,"▲","-")),2)<0,ABS(ROUND(VALUE(SUBSTITUTE('連結実質赤字比率に係る赤字・黒字の構成分析'!I$41,"▲","-")),2)),NA()) -> #N/A | I29: =IF(ROUND(VALUE(SUBSTITUTE('連結実質赤字比率に係る赤字・黒字の構成分析'!I$41,"▲","-")),2)>=0,ABS(ROUND(VALUE(SUBSTITUTE('連結実質赤字比率に係る赤字・黒字の構成分析'!I$41,"▲","-")),2)),NA()) -> 0 | J29: =IF(ROUND(VALUE(SUBSTITUTE('連結実質赤字比率に係る赤字・黒字の構成分析'!J$41,"▲","-")),2)<0,ABS(ROUND(VALUE(SUBSTITUTE('連結実質赤字比率に係る赤字・黒字の構成分析'!J$41,"▲","-")),2)),NA()) -> #N/A | K29: =IF(ROUND(VALUE(SUBSTITUTE('連結実質赤字比率に係る赤字・黒字の構成分析'!J$41,"▲","-")),2)>=0,ABS(ROUND(VALUE(SUBSTITUTE('連結実質赤字比率に係る赤字・黒字の構成分析'!J$41,"▲","-")),2)),NA()) -> 0
A30: =IF('連結実質赤字比率に係る赤字・黒字の構成分析'!C$40="",NA(),'連結実質赤字比率に係る赤字・黒字の構成分析'!C$40) -> 簡易水道事業会計 | B30: =IF(ROUND(VALUE(SUBSTITUTE('連結実質赤字比率に係る赤字・黒字の構成分析'!F$40,"▲","-")),2)<0,ABS(ROUND(VALUE(SUBSTITUTE('連結実質赤字比率に係る赤字・黒字の構成分析'!F$40,"▲","-")),2)),NA()) -> #N/A | C30: =IF(ROUND(VALUE(SUBSTITUTE('連結実質赤字比率に係る赤字・黒字の構成分析'!F$40,"▲","-")),2)>=0,ABS(ROUND(VALUE(SUBSTITUTE('連結実質赤字比率に係る赤字・黒字の構成分析'!F$40,"▲","-")),2)),NA()) -> 0 | D30: =IF(ROUND(VALUE(SUBSTITUTE('連結実質赤字比率に係る赤字・黒字の構成分析'!G$40,"▲","-")),2)<0,ABS(ROUND(VALUE(SUBSTITUTE('連結実質赤字比率に係る赤字・黒字の構成分析'!G$40,"▲","-")),2)),NA()) -> #N/A | E30: =IF(ROUND(VALUE(SUBSTITUTE('連結実質赤字比率に係る赤字・黒字の構成分析'!G$40,"▲","-")),2)>=0,ABS(ROUND(VALUE(SUBSTITUTE('連結実質赤字比率に係る赤字・黒字の構成分析'!G$40,"▲","-")),2)),NA()) -> 0 | F30: =IF(ROUND(VALUE(SUBSTITUTE('連結実質赤字比率に係る赤字・黒字の構成分析'!H$40,"▲","-")),2)<0,ABS(ROUND(VALUE(SUBSTITUTE('連結実質赤字比率に係る赤字・黒字の構成分析'!H$40,"▲","-")),2)),NA()) -> #N/A | G30: =IF(ROUND(VALUE(SUBSTITUTE('連結実質赤字比率に係る赤字・黒字の構成分析'!H$40,"▲","-")),2)>=0,ABS(ROUND(VALUE(SUBSTITUTE('連結実質赤字比率に係る赤字・黒字の構成分析'!H$40,"▲","-")),2)),NA()) -> 0 | H30: =IF(ROUND(VALUE(SUBSTITUTE('連結実質赤字比率に係る赤字・黒字の構成分析'!I$40,"▲","-")),2)<0,ABS(ROUND(VALUE(SUBSTITUTE('連結実質赤字比率に係る赤字・黒字の構成分析'!I$40,"▲","-")),2)),NA()) -> #N/A | I30: =IF(ROUND(VALUE(SUBSTITUTE('連結実質赤字比率に係る赤字・黒字の構成分析'!I$40,"▲","-")),2)>=0,ABS(ROUND(VALUE(SUBSTITUTE('連結実質赤字比率に係る赤字・黒字の構成分析'!I$40,"▲","-")),2)),NA()) -> 0 | J30: =IF(ROUND(VALUE(SUBSTITUTE('連結実質赤字比率に係る赤字・黒字の構成分析'!J$40,"▲","-")),2)<0,ABS(ROUND(VALUE(SUBSTITUTE('連結実質赤字比率に係る赤字・黒字の構成分析'!J$40,"▲","-")),2)),NA()) -> #N/A | K30: =IF(ROUND(VALUE(SUBSTITUTE('連結実質赤字比率に係る赤字・黒字の構成分析'!J$40,"▲","-")),2)>=0,ABS(ROUND(VALUE(SUBSTITUTE('連結実質赤字比率に係る赤字・黒字の構成分析'!J$40,"▲","-")),2)),NA()) -> 0
A31: =IF('連結実質赤字比率に係る赤字・黒字の構成分析'!C$39="",NA(),'連結実質赤字比率に係る赤字・黒字の構成分析'!C$39) -> 後期高齢者医療特別会計 | B31: =IF(ROUND(VALUE(SUBSTITUTE('連結実質赤字比率に係る赤字・黒字の構成分析'!F$39,"▲","-")),2)<0,ABS(ROUND(VALUE(SUBSTITUTE('連結実質赤字比率に係る赤字・黒字の構成分析'!F$39,"▲","-")),2)),NA()) -> #N/A | C31: =IF(ROUND(VALUE(SUBSTITUTE('連結実質赤字比率に係る赤字・黒字の構成分析'!F$39,"▲","-")),2)>=0,ABS(ROUND(VALUE(SUBSTITUTE('連結実質赤字比率に係る赤字・黒字の構成分析'!F$39,"▲","-")),2)),NA()) -> 0 | D31: =IF(ROUND(VALUE(SUBSTITUTE('連結実質赤字比率に係る赤字・黒字の構成分析'!G$39,"▲","-")),2)<0,ABS(ROUND(VALUE(SUBSTITUTE('連結実質赤字比率に係る赤字・黒字の構成分析'!G$39,"▲","-")),2)),NA()) -> #N/A | E31: =IF(ROUND(VALUE(SUBSTITUTE('連結実質赤字比率に係る赤字・黒字の構成分析'!G$39,"▲","-")),2)>=0,ABS(ROUND(VALUE(SUBSTITUTE('連結実質赤字比率に係る赤字・黒字の構成分析'!G$39,"▲","-")),2)),NA()) -> 0 | F31: =IF(ROUND(VALUE(SUBSTITUTE('連結実質赤字比率に係る赤字・黒字の構成分析'!H$39,"▲","-")),2)<0,ABS(ROUND(VALUE(SUBSTITUTE('連結実質赤字比率に係る赤字・黒字の構成分析'!H$39,"▲","-")),2)),NA()) -> #N/A | G31: =IF(ROUND(VALUE(SUBSTITUTE('連結実質赤字比率に係る赤字・黒字の構成分析'!H$39,"▲","-")),2)>=0,ABS(ROUND(VALUE(SUBSTITUTE('連結実質赤字比率に係る赤字・黒字の構成分析'!H$39,"▲","-")),2)),NA()) -> 0 | H31: =IF(ROUND(VALUE(SUBSTITUTE('連結実質赤字比率に係る赤字・黒字の構成分析'!I$39,"▲","-")),2)<0,ABS(ROUND(VALUE(SUBSTITUTE('連結実質赤字比率に係る赤字・黒字の構成分析'!I$39,"▲","-")),2)),NA()) -> #N/A | I31: =IF(ROUND(VALUE(SUBSTITUTE('連結実質赤字比率に係る赤字・黒字の構成分析'!I$39,"▲","-")),2)>=0,ABS(ROUND(VALUE(SUBSTITUTE('連結実質赤字比率に係る赤字・黒字の構成分析'!I$39,"▲","-")),2)),NA()) -> 0 | J31: =IF(ROUND(VALUE(SUBSTITUTE('連結実質赤字比率に係る赤字・黒字の構成分析'!J$39,"▲","-")),2)<0,ABS(ROUND(VALUE(SUBSTITUTE('連結実質赤字比率に係る赤字・黒字の構成分析'!J$39,"▲","-")),2)),NA()) -> #N/A | K31: =IF(ROUND(VALUE(SUBSTITUTE('連結実質赤字比率に係る赤字・黒字の構成分析'!J$39,"▲","-")),2)>=0,ABS(ROUND(VALUE(SUBSTITUTE('連結実質赤字比率に係る赤字・黒字の構成分析'!J$39,"▲","-")),2)),NA()) -> 0
A32: =IF('連結実質赤字比率に係る赤字・黒字の構成分析'!C$38="",NA(),'連結実質赤字比率に係る赤字・黒字の構成分析'!C$38) -> 下水道事業会計 | B32: =IF(ROUND(VALUE(SUBSTITUTE('連結実質赤字比率に係る赤字・黒字の構成分析'!F$38,"▲","-")),2)<0,ABS(ROUND(VALUE(SUBSTITUTE('連結実質赤字比率に係る赤字・黒字の構成分析'!F$38,"▲","-")),2)),NA()) -> #N/A | C32: =IF(ROUND(VALUE(SUBSTITUTE('連結実質赤字比率に係る赤字・黒字の構成分析'!F$38,"▲","-")),2)>=0,ABS(ROUND(VALUE(SUBSTITUTE('連結実質赤字比率に係る赤字・黒字の構成分析'!F$38,"▲","-")),2)),NA()) -> 2.07 | D32: =IF(ROUND(VALUE(SUBSTITUTE('連結実質赤字比率に係る赤字・黒字の構成分析'!G$38,"▲","-")),2)<0,ABS(ROUND(VALUE(SUBSTITUTE('連結実質赤字比率に係る赤字・黒字の構成分析'!G$38,"▲","-")),2)),NA()) -> #N/A | E32: =IF(ROUND(VALUE(SUBSTITUTE('連結実質赤字比率に係る赤字・黒字の構成分析'!G$38,"▲","-")),2)>=0,ABS(ROUND(VALUE(SUBSTITUTE('連結実質赤字比率に係る赤字・黒字の構成分析'!G$38,"▲","-")),2)),NA()) -> 1.8 | F32: =IF(ROUND(VALUE(SUBSTITUTE('連結実質赤字比率に係る赤字・黒字の構成分析'!H$38,"▲","-")),2)<0,ABS(ROUND(VALUE(SUBSTITUTE('連結実質赤字比率に係る赤字・黒字の構成分析'!H$38,"▲","-")),2)),NA()) -> #N/A | G32: =IF(ROUND(VALUE(SUBSTITUTE('連結実質赤字比率に係る赤字・黒字の構成分析'!H$38,"▲","-")),2)>=0,ABS(ROUND(VALUE(SUBSTITUTE('連結実質赤字比率に係る赤字・黒字の構成分析'!H$38,"▲","-")),2)),NA()) -> 1.05 | H32: =IF(ROUND(VALUE(SUBSTITUTE('連結実質赤字比率に係る赤字・黒字の構成分析'!I$38,"▲","-")),2)<0,ABS(ROUND(VALUE(SUBSTITUTE('連結実質赤字比率に係る赤字・黒字の構成分析'!I$38,"▲","-")),2)),NA()) -> #N/A | I32: =IF(ROUND(VALUE(SUBSTITUTE('連結実質赤字比率に係る赤字・黒字の構成分析'!I$38,"▲","-")),2)>=0,ABS(ROUND(VALUE(SUBSTITUTE('連結実質赤字比率に係る赤字・黒字の構成分析'!I$38,"▲","-")),2)),NA()) -> 0.69 | J32: =IF(ROUND(VALUE(SUBSTITUTE('連結実質赤字比率に係る赤字・黒字の構成分析'!J$38,"▲","-")),2)<0,ABS(ROUND(VALUE(SUBSTITUTE('連結実質赤字比率に係る赤字・黒字の構成分析'!J$38,"▲","-")),2)),NA()) -> #N/A | K32: =IF(ROUND(VALUE(SUBSTITUTE('連結実質赤字比率に係る赤字・黒字の構成分析'!J$38,"▲","-")),2)>=0,ABS(ROUND(VALUE(SUBSTITUTE('連結実質赤字比率に係る赤字・黒字の構成分析'!J$38,"▲","-")),2)),NA()) -> 0.99
A33: =IF('連結実質赤字比率に係る赤字・黒字の構成分析'!C$37="",NA(),'連結実質赤字比率に係る赤字・黒字の構成分析'!C$37) -> 国民健康保険特別会計 | B33: =IF(ROUND(VALUE(SUBSTITUTE('連結実質赤字比率に係る赤字・黒字の構成分析'!F$37,"▲","-")),2)<0,ABS(ROUND(VALUE(SUBSTITUTE('連結実質赤字比率に係る赤字・黒字の構成分析'!F$37,"▲","-")),2)),NA()) -> #N/A | C33: =IF(ROUND(VALUE(SUBSTITUTE('連結実質赤字比率に係る赤字・黒字の構成分析'!F$37,"▲","-")),2)>=0,ABS(ROUND(VALUE(SUBSTITUTE('連結実質赤字比率に係る赤字・黒字の構成分析'!F$37,"▲","-")),2)),NA()) -> 6.38 | D33: =IF(ROUND(VALUE(SUBSTITUTE('連結実質赤字比率に係る赤字・黒字の構成分析'!G$37,"▲","-")),2)<0,ABS(ROUND(VALUE(SUBSTITUTE('連結実質赤字比率に係る赤字・黒字の構成分析'!G$37,"▲","-")),2)),NA()) -> #N/A | E33: =IF(ROUND(VALUE(SUBSTITUTE('連結実質赤字比率に係る赤字・黒字の構成分析'!G$37,"▲","-")),2)>=0,ABS(ROUND(VALUE(SUBSTITUTE('連結実質赤字比率に係る赤字・黒字の構成分析'!G$37,"▲","-")),2)),NA()) -> 3.69 | F33: =IF(ROUND(VALUE(SUBSTITUTE('連結実質赤字比率に係る赤字・黒字の構成分析'!H$37,"▲","-")),2)<0,ABS(ROUND(VALUE(SUBSTITUTE('連結実質赤字比率に係る赤字・黒字の構成分析'!H$37,"▲","-")),2)),NA()) -> #N/A | G33: =IF(ROUND(VALUE(SUBSTITUTE('連結実質赤字比率に係る赤字・黒字の構成分析'!H$37,"▲","-")),2)>=0,ABS(ROUND(VALUE(SUBSTITUTE('連結実質赤字比率に係る赤字・黒字の構成分析'!H$37,"▲","-")),2)),NA()) -> 3.41 | H33: =IF(ROUND(VALUE(SUBSTITUTE('連結実質赤字比率に係る赤字・黒字の構成分析'!I$37,"▲","-")),2)<0,ABS(ROUND(VALUE(SUBSTITUTE('連結実質赤字比率に係る赤字・黒字の構成分析'!I$37,"▲","-")),2)),NA()) -> #N/A | I33: =IF(ROUND(VALUE(SUBSTITUTE('連結実質赤字比率に係る赤字・黒字の構成分析'!I$37,"▲","-")),2)>=0,ABS(ROUND(VALUE(SUBSTITUTE('連結実質赤字比率に係る赤字・黒字の構成分析'!I$37,"▲","-")),2)),NA()) -> 2.54 | J33: =IF(ROUND(VALUE(SUBSTITUTE('連結実質赤字比率に係る赤字・黒字の構成分析'!J$37,"▲","-")),2)<0,ABS(ROUND(VALUE(SUBSTITUTE('連結実質赤字比率に係る赤字・黒字の構成分析'!J$37,"▲","-")),2)),NA()) -> #N/A | K33: =IF(ROUND(VALUE(SUBSTITUTE('連結実質赤字比率に係る赤字・黒字の構成分析'!J$37,"▲","-")),2)>=0,ABS(ROUND(VALUE(SUBSTITUTE('連結実質赤字比率に係る赤字・黒字の構成分析'!J$37,"▲","-")),2)),NA()) -> 1.27
A34: =IF('連結実質赤字比率に係る赤字・黒字の構成分析'!C$36="",NA(),'連結実質赤字比率に係る赤字・黒字の構成分析'!C$36) -> 介護保険特別会計 | B34: =IF(ROUND(VALUE(SUBSTITUTE('連結実質赤字比率に係る赤字・黒字の構成分析'!F$36,"▲","-")),2)<0,ABS(ROUND(VALUE(SUBSTITUTE('連結実質赤字比率に係る赤字・黒字の構成分析'!F$36,"▲","-")),2)),NA()) -> #N/A | C34: =IF(ROUND(VALUE(SUBSTITUTE('連結実質赤字比率に係る赤字・黒字の構成分析'!F$36,"▲","-")),2)>=0,ABS(ROUND(VALUE(SUBSTITUTE('連結実質赤字比率に係る赤字・黒字の構成分析'!F$36,"▲","-")),2)),NA()) -> 1.38 | D34: =IF(ROUND(VALUE(SUBSTITUTE('連結実質赤字比率に係る赤字・黒字の構成分析'!G$36,"▲","-")),2)<0,ABS(ROUND(VALUE(SUBSTITUTE('連結実質赤字比率に係る赤字・黒字の構成分析'!G$36,"▲","-")),2)),NA()) -> #N/A | E34: =IF(ROUND(VALUE(SUBSTITUTE('連結実質赤字比率に係る赤字・黒字の構成分析'!G$36,"▲","-")),2)>=0,ABS(ROUND(VALUE(SUBSTITUTE('連結実質赤字比率に係る赤字・黒字の構成分析'!G$36,"▲","-")),2)),NA()) -> 1.21 | F34: =IF(ROUND(VALUE(SUBSTITUTE('連結実質赤字比率に係る赤字・黒字の構成分析'!H$36,"▲","-")),2)<0,ABS(ROUND(VALUE(SUBSTITUTE('連結実質赤字比率に係る赤字・黒字の構成分析'!H$36,"▲","-")),2)),NA()) -> #N/A | G34: =IF(ROUND(VALUE(SUBSTITUTE('連結実質赤字比率に係る赤字・黒字の構成分析'!H$36,"▲","-")),2)>=0,ABS(ROUND(VALUE(SUBSTITUTE('連結実質赤字比率に係る赤字・黒字の構成分析'!H$36,"▲","-")),2)),NA()) -> 0.96 | H34: =IF(ROUND(VALUE(SUBSTITUTE('連結実質赤字比率に係る赤字・黒字の構成分析'!I$36,"▲","-")),2)<0,ABS(ROUND(VALUE(SUBSTITUTE('連結実質赤字比率に係る赤字・黒字の構成分析'!I$36,"▲","-")),2)),NA()) -> #N/A | I34: =IF(ROUND(VALUE(SUBSTITUTE('連結実質赤字比率に係る赤字・黒字の構成分析'!I$36,"▲","-")),2)>=0,ABS(ROUND(VALUE(SUBSTITUTE('連結実質赤字比率に係る赤字・黒字の構成分析'!I$36,"▲","-")),2)),NA()) -> 1.01 | J34: =IF(ROUND(VALUE(SUBSTITUTE('連結実質赤字比率に係る赤字・黒字の構成分析'!J$36,"▲","-")),2)<0,ABS(ROUND(VALUE(SUBSTITUTE('連結実質赤字比率に係る赤字・黒字の構成分析'!J$36,"▲","-")),2)),NA()) -> #N/A | K34: =IF(ROUND(VALUE(SUBSTITUTE('連結実質赤字比率に係る赤字・黒字の構成分析'!J$36,"▲","-")),2)>=0,ABS(ROUND(VALUE(SUBSTITUTE('連結実質赤字比率に係る赤字・黒字の構成分析'!J$36,"▲","-")),2)),NA()) -> 1.32
A35: =IF('連結実質赤字比率に係る赤字・黒字の構成分析'!C$35="",NA(),'連結実質赤字比率に係る赤字・黒字の構成分析'!C$35) -> 一般会計 | B35: =IF(ROUND(VALUE(SUBSTITUTE('連結実質赤字比率に係る赤字・黒字の構成分析'!F$35,"▲","-")),2)<0,ABS(ROUND(VALUE(SUBSTITUTE('連結実質赤字比率に係る赤字・黒字の構成分析'!F$35,"▲","-")),2)),NA()) -> #N/A | C35: =IF(ROUND(VALUE(SUBSTITUTE('連結実質赤字比率に係る赤字・黒字の構成分析'!F$35,"▲","-")),2)>=0,ABS(ROUND(VALUE(SUBSTITUTE('連結実質赤字比率に係る赤字・黒字の構成分析'!F$35,"▲","-")),2)),NA()) -> 6.42 | D35: =IF(ROUND(VALUE(SUBSTITUTE('連結実質赤字比率に係る赤字・黒字の構成分析'!G$35,"▲","-")),2)<0,ABS(ROUND(VALUE(SUBSTITUTE('連結実質赤字比率に係る赤字・黒字の構成分析'!G$35,"▲","-")),2)),NA()) -> #N/A | E35: =IF(ROUND(VALUE(SUBSTITUTE('連結実質赤字比率に係る赤字・黒字の構成分析'!G$35,"▲","-")),2)>=0,ABS(ROUND(VALUE(SUBSTITUTE('連結実質赤字比率に係る赤字・黒字の構成分析'!G$35,"▲","-")),2)),NA()) -> 6.93 | F35: =IF(ROUND(VALUE(SUBSTITUTE('連結実質赤字比率に係る赤字・黒字の構成分析'!H$35,"▲","-")),2)<0,ABS(ROUND(VALUE(SUBSTITUTE('連結実質赤字比率に係る赤字・黒字の構成分析'!H$35,"▲","-")),2)),NA()) -> #N/A | G35: =IF(ROUND(VALUE(SUBSTITUTE('連結実質赤字比率に係る赤字・黒字の構成分析'!H$35,"▲","-")),2)>=0,ABS(ROUND(VALUE(SUBSTITUTE('連結実質赤字比率に係る赤字・黒字の構成分析'!H$35,"▲","-")),2)),NA()) -> 6.16 | H35: =IF(ROUND(VALUE(SUBSTITUTE('連結実質赤字比率に係る赤字・黒字の構成分析'!I$35,"▲","-")),2)<0,ABS(ROUND(VALUE(SUBSTITUTE('連結実質赤字比率に係る赤字・黒字の構成分析'!I$35,"▲","-")),2)),NA()) -> #N/A | I35: =IF(ROUND(VALUE(SUBSTITUTE('連結実質赤字比率に係る赤字・黒字の構成分析'!I$35,"▲","-")),2)>=0,ABS(ROUND(VALUE(SUBSTITUTE('連結実質赤字比率に係る赤字・黒字の構成分析'!I$35,"▲","-")),2)),NA()) -> 6.58 | J35: =IF(ROUND(VALUE(SUBSTITUTE('連結実質赤字比率に係る赤字・黒字の構成分析'!J$35,"▲","-")),2)<0,ABS(ROUND(VALUE(SUBSTITUTE('連結実質赤字比率に係る赤字・黒字の構成分析'!J$35,"▲","-")),2)),NA()) -> #N/A | K35: =IF(ROUND(VALUE(SUBSTITUTE('連結実質赤字比率に係る赤字・黒字の構成分析'!J$35,"▲","-")),2)>=0,ABS(ROUND(VALUE(SUBSTITUTE('連結実質赤字比率に係る赤字・黒字の構成分析'!J$35,"▲","-")),2)),NA()) -> 5.64
A36: =IF('連結実質赤字比率に係る赤字・黒字の構成分析'!C$34="",NA(),'連結実質赤字比率に係る赤字・黒字の構成分析'!C$34) -> 水道事業会計 | B36: =IF(ROUND(VALUE(SUBSTITUTE('連結実質赤字比率に係る赤字・黒字の構成分析'!F$34,"▲","-")),2)<0,ABS(ROUND(VALUE(SUBSTITUTE('連結実質赤字比率に係る赤字・黒字の構成分析'!F$34,"▲","-")),2)),NA()) -> #N/A | C36: =IF(ROUND(VALUE(SUBSTITUTE('連結実質赤字比率に係る赤字・黒字の構成分析'!F$34,"▲","-")),2)>=0,ABS(ROUND(VALUE(SUBSTITUTE('連結実質赤字比率に係る赤字・黒字の構成分析'!F$34,"▲","-")),2)),NA()) -> 6.16 | D36: =IF(ROUND(VALUE(SUBSTITUTE('連結実質赤字比率に係る赤字・黒字の構成分析'!G$34,"▲","-")),2)<0,ABS(ROUND(VALUE(SUBSTITUTE('連結実質赤字比率に係る赤字・黒字の構成分析'!G$34,"▲","-")),2)),NA()) -> #N/A | E36: =IF(ROUND(VALUE(SUBSTITUTE('連結実質赤字比率に係る赤字・黒字の構成分析'!G$34,"▲","-")),2)>=0,ABS(ROUND(VALUE(SUBSTITUTE('連結実質赤字比率に係る赤字・黒字の構成分析'!G$34,"▲","-")),2)),NA()) -> 6.62 | F36: =IF(ROUND(VALUE(SUBSTITUTE('連結実質赤字比率に係る赤字・黒字の構成分析'!H$34,"▲","-")),2)<0,ABS(ROUND(VALUE(SUBSTITUTE('連結実質赤字比率に係る赤字・黒字の構成分析'!H$34,"▲","-")),2)),NA()) -> #N/A | G36: =IF(ROUND(VALUE(SUBSTITUTE('連結実質赤字比率に係る赤字・黒字の構成分析'!H$34,"▲","-")),2)>=0,ABS(ROUND(VALUE(SUBSTITUTE('連結実質赤字比率に係る赤字・黒字の構成分析'!H$34,"▲","-")),2)),NA()) -> 7.79 | H36: =IF(ROUND(VALUE(SUBSTITUTE('連結実質赤字比率に係る赤字・黒字の構成分析'!I$34,"▲","-")),2)<0,ABS(ROUND(VALUE(SUBSTITUTE('連結実質赤字比率に係る赤字・黒字の構成分析'!I$34,"▲","-")),2)),NA()) -> #N/A | I36: =IF(ROUND(VALUE(SUBSTITUTE('連結実質赤字比率に係る赤字・黒字の構成分析'!I$34,"▲","-")),2)>=0,ABS(ROUND(VALUE(SUBSTITUTE('連結実質赤字比率に係る赤字・黒字の構成分析'!I$34,"▲","-")),2)),NA()) -> 9.15 | J36: =IF(ROUND(VALUE(SUBSTITUTE('連結実質赤字比率に係る赤字・黒字の構成分析'!J$34,"▲","-")),2)<0,ABS(ROUND(VALUE(SUBSTITUTE('連結実質赤字比率に係る赤字・黒字の構成分析'!J$34,"▲","-")),2)),NA()) -> #N/A | K36: =IF(ROUND(VALUE(SUBSTITUTE('連結実質赤字比率に係る赤字・黒字の構成分析'!J$34,"▲","-")),2)>=0,ABS(ROUND(VALUE(SUBSTITUTE('連結実質赤字比率に係る赤字・黒字の構成分析'!J$34,"▲","-")),2)),NA()) -> 9.29
A39: 実質公債費比率（分子）の構造
B40: ='実質公債費比率（分子）の構造'!K$44 -> R02 | E40: ='実質公債費比率（分子）の構造'!L$44 -> R03 | H40: ='実質公債費比率（分子）の構造'!M$44 -> R04 | K40: ='実質公債費比率（分子）の構造'!N$44 -> R05 | N40: ='実質公債費比率（分子）の構造'!O$44 -> R06
B41: 元利償還金等 | D41: 算入公債費等 | E41: 元利償還金等 | G41: 算入公債費等 | H41: 元利償還金等 | J41: 算入公債費等 | K41: 元利償還金等 | M41: 算入公債費等 | N41: 元利償還金等 | P41: 算入公債費等
A42: 算入公債費等 | D42: ='実質公債費比率（分子）の構造'!K$52 -> 2040 | G42: ='実質公債費比率（分子）の構造'!L$52 -> 2036 | J42: ='実質公債費比率（分子）の構造'!M$52 -> 1993 | M42: ='実質公債費比率（分子）の構造'!N$52 -> 1971 | P42: ='実質公債費比率（分子）の構造'!O$52 -> 1898
A43: 一時借入金の利子 | B43: ='実質公債費比率（分子）の構造'!K$51 -> 0 | E43: ='実質公債費比率（分子）の構造'!L$51 -> - | H43: ='実質公債費比率（分子）の構造'!M$51 -> 0 | K43: ='実質公債費比率（分子）の構造'!N$51 -> 0 | N43: ='実質公債費比率（分子）の構造'!O$51 -> 0
A44: 債務負担行為に基づく支出額 | B44: ='実質公債費比率（分子）の構造'!K$50 -> 16 | E44: ='実質公債費比率（分子）の構造'!L$50 -> 16 | H44: ='実質公債費比率（分子）の構造'!M$50 -> 15 | K44: ='実質公債費比率（分子）の構造'!N$50 -> 15 | N44: ='実質公債費比率（分子）の構造'!O$50 -> 15
A45: 組合等が起こした地方債の元利償還金に対する負担金等 | B45: ='実質公債費比率（分子）の構造'!K$49 -> 4 | E45: ='実質公債費比率（分子）の構造'!L$49 -> 4 | H45: ='実質公債費比率（分子）の構造'!M$49 -> 4 | K45: ='実質公債費比率（分子）の構造'!N$49 -> - | N45: ='実質公債費比率（分子）の構造'!O$49 -> -
A46: 公営企業債の元利償還金に対する繰入金 | B46: ='実質公債費比率（分子）の構造'!K$48 -> 833 | E46: ='実質公債費比率（分子）の構造'!L$48 -> 770 | H46: ='実質公債費比率（分子）の構造'!M$48 -> 744 | K46: ='実質公債費比率（分子）の構造'!N$48 -> 753 | N46: ='実質公債費比率（分子）の構造'!O$48 -> 745
A47: 満期一括償還地方債に係る年度割相当額 | B47: ='実質公債費比率（分子）の構造'!K$47 -> - | E47: ='実質公債費比率（分子）の構造'!L$47 -> - | H47: ='実質公債費比率（分子）の構造'!M$47 -> - | K47: ='実質公債費比率（分子）の構造'!N$47 -> - | N47: ='実質公債費比率（分子）の構造'!O$47 -> -
...
